BEGIN:VCALENDAR
VERSION:2.0
PRODID:-//hacksw/handcal//NONSGML v1.0//EN
BEGIN:VEVENT
SUMMARY:Les Gorges de Verbois au Val d'Amby 10 lm **
UID:ade55c7b-ca95-4306-87e7-14e2878e17ab
DTSTART:20260422T113000Z
DTEND:20260422T153000Z
LOCATION:Localisation   
CATEGORIES:Sportif
STATUS:
URL;VALUE=URI:https://loyettes.sportsregions.fr/evenements/2026/04/22/les-gorges-de-verbois-au-val-damby-10-lm-2368166
END:VEVENT
END:VCALENDAR
